BEGIN:VCALENDAR
VERSION:2.0
METHOD:PUBLISH
CALSCALE:GREGORIAN
METHOD:PUBLISH
PRODID:iCalendar-Ruby
BEGIN:VEVENT
CATEGORIES:Heakord,Külatalgud,Prügikoristus
COMMENT:https://talgud.teemeara.ee/
CONTACT:Enn Sarv\, ennsarv50@gmail.com\, 5148840
DESCRIPTION:
DTEND:20260502T160000
DTSTAMP:20260423T044914Z
DTSTART:20260502T100000
GEO:58.062365554;25.3663525957
LAST-MODIFIED:20260422T210025
LOCATION:Viljandimaa\, Mulgi vald\, Penuja\, Penuja
ORGANIZER:Enn Sarv\, ennsarv50@gmail.com\, 5148840
SEQUENCE:0
STATUS:Registreerumiseks avatud
SUMMARY:260422036\, Penuja küla talgud
UID:260422036
URL:https://talgud.teemeara.ee/events/penuja-kula-talgud
END:VEVENT
END:VCALENDAR
