BEGIN:VCALENDAR
VERSION:2.0
METHOD:PUBLISH
CALSCALE:GREGORIAN
METHOD:PUBLISH
PRODID:iCalendar-Ruby
BEGIN:VEVENT
CATEGORIES:Heakord,Kogukonna turvalisus,Prügikoristus
COMMENT:https://talgud.teemeara.ee/
CONTACT:Getter Klaas\, getterklaas@mail.ee\, 56662038
DESCRIPTION:
DTEND:20260501T160000
DTSTAMP:20260421T101410Z
DTSTART:20260501T100000
GEO:58.9432343492;25.8332070248
LAST-MODIFIED:20260421T090947
LOCATION:Järvamaa\, Järva vald\, Peetri alevik\, Kesktee 14
ORGANIZER:Getter Klaas\, getterklaas@mail.ee\, 56662038
SEQUENCE:0
STATUS:Registreerumiseks avatud
SUMMARY:260421001\, Peetri kogukonnamaja talgud
UID:260421001
URL:https://talgud.teemeara.ee/events/peetri-kogukonnamaja-talgud
END:VEVENT
END:VCALENDAR
