BEGIN:VCALENDAR
VERSION:2.0
METHOD:PUBLISH
CALSCALE:GREGORIAN
METHOD:PUBLISH
PRODID:iCalendar-Ruby
BEGIN:VEVENT
CATEGORIES:Heakord
COMMENT:https://talgud.teemeara.ee/
CONTACT:Mati Kallemets\, mati.kallemets@gmail.com\, 5052565
DTEND:20260502T160000
DTSTAMP:20260424T024816Z
DTSTART:20260502T100000
GEO:58.9688529806;23.9032755287
LAST-MODIFIED:20260423T194652
LOCATION:Läänemaa\, Lääne-Nigula vald\, Allikmaa\, Spordikeskuse
ORGANIZER:Mati Kallemets\, mati.kallemets@gmail.com\, 5052565
SEQUENCE:0
STATUS:Registreerumiseks avatud
SUMMARY:260422014\, Palivere Turismi- ja Tervisespordikeskuse talgutööd
UID:260422014
URL:https://talgud.teemeara.ee/events/palivere-turismi-ja-tervisespordikesk
 use-talgutood-7
END:VEVENT
END:VCALENDAR
