BEGIN:VCALENDAR
VERSION:2.0
METHOD:PUBLISH
CALSCALE:GREGORIAN
METHOD:PUBLISH
PRODID:iCalendar-Ruby
BEGIN:VEVENT
CATEGORIES:Elurikkad õppeaiad,Heakord
COMMENT:https://talgud.teemeara.ee/
CONTACT:Ivi Kollo\, kolloivi@gmail.com\, 55513297
DTEND:20260511T190000
DTSTAMP:20260423T224516Z
DTSTART:20260511T160000
GEO:59.3528731;24.0551582
LAST-MODIFIED:20260422T214504
LOCATION:Harjumaa\, Lääne-Harju vald\, Paldiski linn\, Rae tn 48\, Sipsiku 
 maja
ORGANIZER:Ivi Kollo\, kolloivi@gmail.com\, 55513297
SEQUENCE:0
STATUS:Registreerumiseks avatud
SUMMARY:260422021\, Paldiski Lasteaia heakorra talgud
UID:260422021
URL:https://talgud.teemeara.ee/events/paldiski-lasteaia-heakorra-talgud
END:VEVENT
END:VCALENDAR
