BEGIN:VCALENDAR
VERSION:2.0
METHOD:PUBLISH
CALSCALE:GREGORIAN
METHOD:PUBLISH
PRODID:iCalendar-Ruby
BEGIN:VEVENT
CATEGORIES:Heakord,Külatalgud,Prügikoristus
COMMENT:https://talgud.teemeara.ee/
CONTACT:Gertu Viiask\, gertu.viiask@viljandivald.ee\, 53023135
DESCRIPTION:
DTEND:20260502T160000
DTSTAMP:20260421T134535Z
DTSTART:20260502T100000
GEO:58.2739003;25.6281022
LAST-MODIFIED:20260421T133853
LOCATION:Viljandimaa\, Viljandi vald\, Paistu
ORGANIZER:Gertu Viiask\, gertu.viiask@viljandivald.ee\, 53023135
SEQUENCE:0
STATUS:Registreerumiseks avatud
SUMMARY:260418006\, Paistu küla talgud
UID:260418006
URL:https://talgud.teemeara.ee/events/paistu-kula-talgud-3
END:VEVENT
END:VCALENDAR
