BEGIN:VCALENDAR
VERSION:2.0
METHOD:PUBLISH
CALSCALE:GREGORIAN
METHOD:PUBLISH
PRODID:iCalendar-Ruby
BEGIN:VEVENT
CATEGORIES:Heakord,Muud talgud
COMMENT:https://talgud.teemeara.ee/
CONTACT:Maris Kilk\, mariskilk@gmail.com\, 56223390
DESCRIPTION:
DTEND:20260502T160000
DTSTAMP:20260423T044914Z
DTSTART:20260502T100000
GEO:58.1893286915;25.7337372411
LAST-MODIFIED:20260422T073120
LOCATION:Viljandimaa\, Viljandi vald\, Pahuvere\, Vaino talu
ORGANIZER:Maris Kilk\, mariskilk@gmail.com\, 56223390
SEQUENCE:0
STATUS:Registreerumiseks avatud
SUMMARY:260421044\, Pahuvere Rahuvee talgud
UID:260421044
URL:https://talgud.teemeara.ee/events/pahuvere-rahuvee-talgud-1
END:VEVENT
END:VCALENDAR
