BEGIN:VCALENDAR
VERSION:2.0
METHOD:PUBLISH
CALSCALE:GREGORIAN
METHOD:PUBLISH
PRODID:iCalendar-Ruby
BEGIN:VEVENT
CATEGORIES:Külatalgud,Heakord,Prügikoristus
COMMENT:https://talgud.teemeara.ee/
CONTACT:Grestiine Metsmaa\, Grestiine@gmail.com\, 56312471
DTEND:20260502T160000
DTSTAMP:20260420T161600Z
DTSTART:20260502T110000
GEO:58.3088953736;22.4723328486
LAST-MODIFIED:20260420T152945
LOCATION:Saaremaa\, Saaremaa vald\, Pähkla
ORGANIZER:Grestiine Metsmaa\, Grestiine@gmail.com\, 56312471
SEQUENCE:0
STATUS:Registreerumiseks avatud
SUMMARY:260420005\, Pähkla Küla Talgud
UID:260420005
URL:https://talgud.teemeara.ee/events/pahkla-kula-talgud-3
END:VEVENT
END:VCALENDAR
