BEGIN:VCALENDAR
VERSION:2.0
METHOD:PUBLISH
CALSCALE:GREGORIAN
METHOD:PUBLISH
PRODID:iCalendar-Ruby
BEGIN:VEVENT
CATEGORIES:Heakord
COMMENT:https://talgud.teemeara.ee/
CONTACT:Kristi Amberman\, oppejuht@padisela.edu.ee\, 56622825
DTEND:20260430T180000
DTSTAMP:20260421T010144Z
DTSTART:20260430T160000
GEO:59.2201228;24.1357627
LAST-MODIFIED:20260420T190102
LOCATION:Harjumaa\, Lääne-Harju vald\, Padise
ORGANIZER:Kristi Amberman\, oppejuht@padisela.edu.ee\, 56622825
SEQUENCE:0
STATUS:Registreerumine lõpetatud
SUMMARY:260417003\, Padise Lasteaed
UID:260417003
URL:https://talgud.teemeara.ee/events/padise-lasteaed-2
END:VEVENT
END:VCALENDAR
