BEGIN:VCALENDAR
VERSION:2.0
METHOD:PUBLISH
CALSCALE:GREGORIAN
METHOD:PUBLISH
PRODID:iCalendar-Ruby
BEGIN:VEVENT
CATEGORIES:Heakord,Mõttetalgud,Prügikoristus,Vaimse tervise talgud
COMMENT:https://talgud.teemeara.ee/
CONTACT:Maarja Raud\, maarjav@gmail.com\, 56694214
DESCRIPTION:
DTEND:20260502T160000
DTSTAMP:20260421T092512Z
DTSTART:20260502T100000
GEO:58.0495458508;26.4810477226
LAST-MODIFIED:20260420T160028
LOCATION:Valgamaa\, Otepää vald\, Otepää
ORGANIZER:Maarja Raud\, maarjav@gmail.com\, 56694214
SEQUENCE:0
STATUS:Registreerumiseks avatud
SUMMARY:260419014\, Otepää Aedlinna kevadtalgud
UID:260419014
URL:https://talgud.teemeara.ee/events/otepaa-aedlinna-kevadtalgud-3
END:VEVENT
END:VCALENDAR
