BEGIN:VCALENDAR
VERSION:2.0
METHOD:PUBLISH
CALSCALE:GREGORIAN
METHOD:PUBLISH
PRODID:iCalendar-Ruby
BEGIN:VEVENT
CATEGORIES:Elurikkad õppeaiad,Heakord,Muud talgud,Prügikoristus,Vaimse terv
 ise talgud
COMMENT:https://talgud.teemeara.ee/
CONTACT:Elo Hermann\, elomann@gmail.com\, 56502137
DESCRIPTION:
DTEND:20260503T170000
DTSTAMP:20260423T021512Z
DTSTART:20260503T110000
GEO:58.3628470246;26.8513417573
LAST-MODIFIED:20260420T233744
LOCATION:Tartumaa\, Luunja vald\, Põvvatu\, Ojasilla talu
ORGANIZER:Elo Hermann\, elomann@gmail.com\, 56502137
SEQUENCE:0
STATUS:Registreerumiseks avatud
SUMMARY:260419009\, Ojasilla talu permakultuurse õppeaia korrastamine
UID:260419009
URL:https://talgud.teemeara.ee/events/ojasilla-talu-permakultuurse-oppeaia-
 korrastamine
END:VEVENT
END:VCALENDAR
