BEGIN:VCALENDAR
VERSION:2.0
METHOD:PUBLISH
CALSCALE:GREGORIAN
METHOD:PUBLISH
PRODID:iCalendar-Ruby
BEGIN:VEVENT
CATEGORIES:Heakord,Prügikoristus
COMMENT:https://talgud.teemeara.ee/
CONTACT:Elena Kvitenko\, kvitenko@mail.ru\, 56955332
DESCRIPTION:
DTEND:20260508T160000
DTSTAMP:20260423T030918Z
DTSTART:20260504T100000
GEO:59.3886706359;28.1691239112
LAST-MODIFIED:20260422T180102
LOCATION:Ida-Virumaa\, Narva linn\, Kangelaste prospekt 32\, 20608 Narva
ORGANIZER:Elena Kvitenko\, kvitenko@mail.ru\, 56955332
SEQUENCE:0
STATUS:Registreerumine lõpetatud
SUMMARY:260421004\, Narva Keeltelütseum
UID:260421004
URL:https://talgud.teemeara.ee/events/narva-kelltelutseum
END:VEVENT
END:VCALENDAR
