BEGIN:VCALENDAR
VERSION:2.0
METHOD:PUBLISH
CALSCALE:GREGORIAN
METHOD:PUBLISH
PRODID:iCalendar-Ruby
BEGIN:VEVENT
CATEGORIES:Heakord,Prügikoristus
COMMENT:https://talgud.teemeara.ee/
CONTACT:Laid Zalekešina\, laidi.zalekesina@gmail.com\, 55650811
DTEND:20260502T160000
DTSTAMP:20260421T081720Z
DTSTART:20260502T100000
GEO:58.848228825;26.9505850017
LAST-MODIFIED:20260419T084137
LOCATION:Jõgevamaa\, Mustvee vald\, Mustvee linn
ORGANIZER:Laid Zalekešina\, laidi.zalekesina@gmail.com\, 55650811
SEQUENCE:0
STATUS:Registreerumiseks avatud
SUMMARY:260418001\, Mustvee linna talgupäev
UID:260418001
URL:https://talgud.teemeara.ee/events/mustvee-linna-talgupaev
END:VEVENT
END:VCALENDAR
