BEGIN:VCALENDAR
VERSION:2.0
METHOD:PUBLISH
CALSCALE:GREGORIAN
METHOD:PUBLISH
PRODID:iCalendar-Ruby
BEGIN:VEVENT
CATEGORIES:Külatalgud,Prügikoristus
COMMENT:https://talgud.teemeara.ee/
CONTACT:Kristina Tiitson\, kristina.tiitson@gmail.com\, 5069758
DTEND:20260502T140000
DTSTAMP:20260420T060748Z
DTSTART:20260502T100000
GEO:58.195884;22.0755963
LAST-MODIFIED:20260420T030102
LOCATION:Saaremaa\, Saaremaa vald\, Riksu\, Muha rand
ORGANIZER:Kristina Tiitson\, kristina.tiitson@gmail.com\, 5069758
SEQUENCE:0
STATUS:Registreerumine lõpetatud
SUMMARY:260419004\, Muha ranna talgud
UID:260419004
URL:https://talgud.teemeara.ee/events/muha-ranna-talgud-3
END:VEVENT
END:VCALENDAR
