BEGIN:VCALENDAR
VERSION:2.0
METHOD:PUBLISH
CALSCALE:GREGORIAN
METHOD:PUBLISH
PRODID:iCalendar-Ruby
BEGIN:VEVENT
CATEGORIES:Heakord
COMMENT:https://talgud.teemeara.ee/
CONTACT:Ave Palmi\, avepalmi@gmail.com\, 58439643
DTEND:20260504T123000
DTSTAMP:20260421T090302Z
DTSTART:20260504T110000
GEO:58.7349272;25.767305
LAST-MODIFIED:20260421T100102
LOCATION:Järvamaa\, Järva vald\, Imavere
ORGANIZER:Ave Palmi\, avepalmi@gmail.com\, 58439643
SEQUENCE:0
STATUS:Registreerumine lõpetatud
SUMMARY:260420029\, Mõmmid hoiavad loodust!
UID:260420029
URL:https://talgud.teemeara.ee/events/mommid-hoiavad-loodust-2
END:VEVENT
END:VCALENDAR
