BEGIN:VCALENDAR
VERSION:2.0
METHOD:PUBLISH
CALSCALE:GREGORIAN
METHOD:PUBLISH
PRODID:iCalendar-Ruby
BEGIN:VEVENT
CATEGORIES:Heakord,Külatalgud,Vaimse tervise talgud
COMMENT:https://talgud.teemeara.ee/
CONTACT:Jaak Haamer\, Jaak.haamer@mail.ee\, 5208376
DTEND:20260502T160000
DTSTAMP:20260422T041249Z
DTSTART:20260502T100000
GEO:58.5266258018;22.7470733659
LAST-MODIFIED:20260421T084700
LOCATION:Saaremaa\, Saaremaa vald\, Mätja
ORGANIZER:Jaak Haamer\, Jaak.haamer@mail.ee\, 5208376
SEQUENCE:0
STATUS:Registreerumiseks avatud
SUMMARY:260420028\, Mätja-Tareste kevadtalgud
UID:260420028
URL:https://talgud.teemeara.ee/events/matja-tareste-kevadtalgud-2
END:VEVENT
END:VCALENDAR
