BEGIN:VCALENDAR
VERSION:2.0
METHOD:PUBLISH
CALSCALE:GREGORIAN
METHOD:PUBLISH
PRODID:iCalendar-Ruby
BEGIN:VEVENT
CATEGORIES:Благоустройство,Уборка мусора
COMMENT:https://talgud.teemeara.ee/
CONTACT:Merje Talistu\, merje.talistu@maarjamaa.edu.ee\, 56281748
DTEND:20260429T130000
DTSTAMP:20260423T031051Z
DTSTART:20260429T110000
GEO:58.7245456;26.3457839
LAST-MODIFIED:20260422T200103
LOCATION:Jõgevamaa\, Jõgeva vald\, Siimusti alevik\, Siimusti\, Kiigemetsa 
 tn 2
ORGANIZER:Merje Talistu\, merje.talistu@maarjamaa.edu.ee\, 56281748
SEQUENCE:0
STATUS:Регистрация завершена
SUMMARY:260421036\, Maarjamaa Riigikooli Kiigemetsa õppekoha koristustalgud
UID:260421036
URL:https://talgud.teemeara.ee/events/maarjamaa-riigikooli-kiigemetsa-oppek
 oha-koristustalgud
END:VEVENT
END:VCALENDAR
