BEGIN:VCALENDAR
VERSION:2.0
METHOD:PUBLISH
CALSCALE:GREGORIAN
METHOD:PUBLISH
PRODID:iCalendar-Ruby
BEGIN:VEVENT
CATEGORIES:Heakord,Kogukonna turvalisus,Külatalgud,Prügikoristus
COMMENT:https://talgud.teemeara.ee/
CONTACT:Sille Varul\, sillevarul@gmail.com\, 5292766
DESCRIPTION:
DTEND:20260503T160000
DTSTAMP:20260424T154257Z
DTSTART:20260503T100000
GEO:58.7566172053;25.5600021804
LAST-MODIFIED:20260424T101630
LOCATION:Järvamaa\, Türi vald\, Oisu alevik
ORGANIZER:Sille Varul\, sillevarul@gmail.com\, 5292766
SEQUENCE:0
STATUS:Registreerumiseks avatud
SUMMARY:260423024\, Maantee äär ohutuks ja korda
UID:260423024
URL:https://talgud.teemeara.ee/events/maantee-aar-ohutuks-ja-korda
END:VEVENT
END:VCALENDAR
