BEGIN:VCALENDAR
VERSION:2.0
METHOD:PUBLISH
CALSCALE:GREGORIAN
METHOD:PUBLISH
PRODID:iCalendar-Ruby
BEGIN:VEVENT
CATEGORIES:Heakord,Külatalgud,Mõttetalgud,Prügikoristus
COMMENT:https://talgud.teemeara.ee/
CONTACT:Anne Kalamäe\, annekalamae@gmail.com\, 5140909
DESCRIPTION:
DTEND:20260425T130000
DTSTAMP:20260422T223255Z
DTSTART:20260425T100000
GEO:59.3745954;27.0548352
LAST-MODIFIED:20260422T222902
LOCATION:Ida-Virumaa\, Lüganuse vald\, Lüganuse alevik\, Kiviõli tee 12 maj
 a taga
ORGANIZER:Anne Kalamäe\, annekalamae@gmail.com\, 5140909
SEQUENCE:0
STATUS:Registreerumiseks avatud
SUMMARY:260420020\, Lüganuse külaplatsi talgud
UID:260420020
URL:https://talgud.teemeara.ee/events/luganuse-kulaplatsi-talgud-7
END:VEVENT
END:VCALENDAR
