BEGIN:VCALENDAR
VERSION:2.0
METHOD:PUBLISH
CALSCALE:GREGORIAN
METHOD:PUBLISH
PRODID:iCalendar-Ruby
BEGIN:VEVENT
CATEGORIES:Heakord
COMMENT:https://talgud.teemeara.ee/
CONTACT:Nele Lavrikov \, direktor\, nele.lavrikov@lodijarve.ee\, 6043143
DTEND:20260429T200000
DTSTAMP:20260422T144526Z
DTSTART:20260429T173000
GEO:59.2862182337;24.2212509539
LAST-MODIFIED:20260422T080103
LOCATION:Harjumaa\, Lääne-Harju vald\, Klooga alevik\, Aedlinna tee 5
ORGANIZER:Nele Lavrikov \, direktor\, nele.lavrikov@lodijarve.ee\, 6043143
SEQUENCE:0
STATUS:Registreerumine lõpetatud
SUMMARY:260421045\, Liikumises peitub jõud!
UID:260421045
URL:https://talgud.teemeara.ee/events/liikumises-peitub-joud
END:VEVENT
END:VCALENDAR
