BEGIN:VCALENDAR
VERSION:2.0
METHOD:PUBLISH
CALSCALE:GREGORIAN
METHOD:PUBLISH
PRODID:iCalendar-Ruby
BEGIN:VEVENT
CATEGORIES:Heakord,Kogukonna turvalisus,Korteriühistud,Külatalgud,Prügikori
 stus
COMMENT:https://talgud.teemeara.ee/
CONTACT:Ly Punapart\, ly.punapart@gmail.com\, 56306850
DTEND:20260502T160000
DTSTAMP:20260420T165902Z
DTSTART:20260502T100000
GEO:59.3235329;26.2996676
LAST-MODIFIED:20260420T193129
LOCATION:Lääne-Virumaa\, Rakvere vald\, Lepna alevik
ORGANIZER:Ly Punapart\, ly.punapart@gmail.com\, 56306850
SEQUENCE:0
STATUS:Registreerumiseks avatud
SUMMARY:260417009\, Lepna heakorratalgud ja keldrite koristamine
UID:260417009
URL:https://talgud.teemeara.ee/events/lepna-heakorratalgud-ja-keldrite-kori
 stamine
END:VEVENT
END:VCALENDAR
