BEGIN:VCALENDAR
VERSION:2.0
METHOD:PUBLISH
CALSCALE:GREGORIAN
METHOD:PUBLISH
PRODID:iCalendar-Ruby
BEGIN:VEVENT
CATEGORIES:Heakord,Külatalgud,Prügikoristus
COMMENT:https://talgud.teemeara.ee/
CONTACT:Viktooria Iljin\, lemmetsamtu@gmail.com\, 58047629
DESCRIPTION:
DTEND:20260502T150000
DTSTAMP:20260421T093309Z
DTSTART:20260502T100000
GEO:58.4389222101;24.3942228223
LAST-MODIFIED:20260417T111255
LOCATION:Pärnumaa\, Pärnu linn\, Lemmetsa\, Pärnumaa\, Pärnu linn\, Lemmets
 a\, Sanga Rahvamaja
ORGANIZER:Viktooria Iljin\, lemmetsamtu@gmail.com\, 58047629
SEQUENCE:0
STATUS:Registreerumiseks avatud
SUMMARY:260416020\, Lemmetsa küla talgud
UID:260416020
URL:https://talgud.teemeara.ee/events/lemmetsa-kula-talgud-2
END:VEVENT
END:VCALENDAR
