BEGIN:VCALENDAR
VERSION:2.0
METHOD:PUBLISH
CALSCALE:GREGORIAN
METHOD:PUBLISH
PRODID:iCalendar-Ruby
BEGIN:VEVENT
CATEGORIES:Heakord
COMMENT:https://talgud.teemeara.ee/
CONTACT:Kristina Hääl\, kristina.haal@gmail.com\, 5114254
DTEND:20260502T160000
DTSTAMP:20260420T162706Z
DTSTART:20260502T110000
GEO:59.6091111711;25.5025662222
LAST-MODIFIED:20260420T074325
LOCATION:Harjumaa\, Kuusalu vald\, Leesi\, Leesi Katariina kirik
ORGANIZER:Kristina Hääl\, kristina.haal@gmail.com\, 5114254
SEQUENCE:0
STATUS:Registreerumiseks avatud
SUMMARY:260415028\, Leesi kirikuaia korrastamise talgud
UID:260415028
URL:https://talgud.teemeara.ee/events/leesi-kirikuaia-korrastamise-talgud
END:VEVENT
END:VCALENDAR
