BEGIN:VCALENDAR
VERSION:2.0
METHOD:PUBLISH
CALSCALE:GREGORIAN
METHOD:PUBLISH
PRODID:iCalendar-Ruby
BEGIN:VEVENT
CATEGORIES:Heakord,Prügikoristus
COMMENT:https://talgud.teemeara.ee/
CONTACT:Merle Lillak\, merle.lillak@gmail.com\, 53432464
DESCRIPTION:
DTEND:20260502T130000
DTSTAMP:20260420T190051Z
DTSTART:20260502T100000
GEO:58.5117538194;24.375660891
LAST-MODIFIED:20260420T154336
LOCATION:Pärnumaa\, Pärnu linn\, Lavassaare alev\, Staadioni\, Lavassaare a
 lev\, Pärnu linn\, 87001 Pärnu maakond
ORGANIZER:Merle Lillak\, merle.lillak@gmail.com\, 53432464
SEQUENCE:0
STATUS:Registreerumiseks avatud
SUMMARY:260420011\, Lavassaare alevi heakorratalgud
UID:260420011
URL:https://talgud.teemeara.ee/events/lavassaare-alevi-heakorratalgud-6
END:VEVENT
END:VCALENDAR
