BEGIN:VCALENDAR
VERSION:2.0
METHOD:PUBLISH
CALSCALE:GREGORIAN
METHOD:PUBLISH
PRODID:iCalendar-Ruby
BEGIN:VEVENT
CATEGORIES:Heakord,Külatalgud
COMMENT:https://talgud.teemeara.ee/
CONTACT:Vaike Ilves\, vaikele@hot.ee\, 5069204
DTEND:20260502T160000
DTSTAMP:20260425T235602Z
DTSTART:20260502T110000
GEO:59.3236655;24.1226883
LAST-MODIFIED:20260425T113742
LOCATION:Harjumaa\, Lääne-Harju vald\, Laoküla\, Kiigeplats
ORGANIZER:Vaike Ilves\, vaikele@hot.ee\, 5069204
SEQUENCE:0
STATUS:Registreerumiseks avatud
SUMMARY:260424030\, Laoküla kiigeplats
UID:260424030
URL:https://talgud.teemeara.ee/events/laokula-kiigeplats
END:VEVENT
END:VCALENDAR
