BEGIN:VCALENDAR
VERSION:2.0
METHOD:PUBLISH
CALSCALE:GREGORIAN
METHOD:PUBLISH
PRODID:iCalendar-Ruby
BEGIN:VEVENT
CATEGORIES:Heakord,Prügikoristus
COMMENT:https://talgud.teemeara.ee/
CONTACT:Rita Pärn\, laekvere.kool@vinnivald.eu\, 5297171
DTEND:20260504T110000
DTSTAMP:20260422T142041Z
DTSTART:20260504T100000
GEO:59.0730478;26.5667371
LAST-MODIFIED:20260422T111152
LOCATION:Lääne-Virumaa\, Vinni vald\, Laekvere alevik\, Kesk 8
ORGANIZER:Rita Pärn\, laekvere.kool@vinnivald.eu\, 5297171
SEQUENCE:0
STATUS:Registreerumiseks avatud
SUMMARY:260421039\, Laekvere puhtaks
UID:260421039
URL:https://talgud.teemeara.ee/events/laekvere-puhtaks
END:VEVENT
END:VCALENDAR
