BEGIN:VCALENDAR
VERSION:2.0
METHOD:PUBLISH
CALSCALE:GREGORIAN
METHOD:PUBLISH
PRODID:iCalendar-Ruby
BEGIN:VEVENT
CATEGORIES:Heakord,Prügikoristus
COMMENT:https://talgud.teemeara.ee/
CONTACT:Rita Pärn\, laekvere.kool@vinnivald.eu\, 5297171
DESCRIPTION:
DTEND:20260430T120000
DTSTAMP:20260422T125010Z
DTSTART:20260430T110000
GEO:59.0730478;26.5667371
LAST-MODIFIED:20260422T120102
LOCATION:Lääne-Virumaa\, Vinni vald\, Laekvere alevik\, Kesk 8
ORGANIZER:Rita Pärn\, laekvere.kool@vinnivald.eu\, 5297171
SEQUENCE:0
STATUS:Registreerumine lõpetatud
SUMMARY:260421040\, Laekvere puhtaks
UID:260421040
URL:https://talgud.teemeara.ee/events/laekvere-puhtaks-1
END:VEVENT
END:VCALENDAR
