BEGIN:VCALENDAR
VERSION:2.0
METHOD:PUBLISH
CALSCALE:GREGORIAN
METHOD:PUBLISH
PRODID:iCalendar-Ruby
BEGIN:VEVENT
CATEGORIES:Heakord,Prügikoristus
COMMENT:https://talgud.teemeara.ee/
CONTACT:Janne Esko\, janne.esko@laaneranna.edu.ee\, 5187737
DESCRIPTION:
DTEND:20260502T130000
DTSTAMP:20260422T040257Z
DTSTART:20260502T090000
GEO:58.6853925869;23.8391964778
LAST-MODIFIED:20260421T140532
LOCATION:Pärnumaa\, Lääneranna vald\, Lihula linn\, Jaama 9 Lihula
ORGANIZER:Janne Esko\, janne.esko@laaneranna.edu.ee\, 5187737
SEQUENCE:0
STATUS:Registreerumiseks avatud
SUMMARY:260421023\, Lääneranna Gümnaasiumi Lihula kooli talgud
UID:260421023
URL:https://talgud.teemeara.ee/events/laaneranna-gumnaasiumi-lihula-kooli-t
 algud
END:VEVENT
END:VCALENDAR
