BEGIN:VCALENDAR
VERSION:2.0
METHOD:PUBLISH
CALSCALE:GREGORIAN
METHOD:PUBLISH
PRODID:iCalendar-Ruby
BEGIN:VEVENT
CATEGORIES:Prügikoristus,Vaimse tervise talgud,Kogukonna turvalisus
COMMENT:https://talgud.teemeara.ee/
CONTACT:Jelena Antuševa\, muuseumsm@gmail.com\, 58320105
DESCRIPTION:
DTEND:20260502T150000
DTSTAMP:20260424T200134Z
DTSTART:20260502T100000
GEO:59.398733412;27.7605978229
LAST-MODIFIED:20260424T190103
LOCATION:Ida-Virumaa\, Sillamäe linn\, Kajaka tn 17a
ORGANIZER:Jelena Antuševa\, muuseumsm@gmail.com\, 58320105
SEQUENCE:0
STATUS:Registreerumine lõpetatud
SUMMARY:260424028\, Sillamäel\, Kajaka 17a - kuur puhtaks ja pea selgeks!
UID:260424028
URL:https://talgud.teemeara.ee/events/kuur-ja-pea-puhtaks
END:VEVENT
END:VCALENDAR
