BEGIN:VCALENDAR
VERSION:2.0
METHOD:PUBLISH
CALSCALE:GREGORIAN
METHOD:PUBLISH
PRODID:iCalendar-Ruby
BEGIN:VEVENT
CATEGORIES:Heakord,Kogukonna turvalisus,Külatalgud
COMMENT:https://talgud.teemeara.ee/
CONTACT:Reelika Preem\, reelikapreem@gmail.com\, 53618322
DTEND:20260503T160000
DTSTAMP:20260420T140053Z
DTSTART:20260503T100000
GEO:59.0628306506;26.3208742601
LAST-MODIFIED:20260420T090102
LOCATION:Lääne-Virumaa\, Väike-Maarja vald\, Kurtna\, Seltsimaja
ORGANIZER:Reelika Preem\, reelikapreem@gmail.com\, 53618322
SEQUENCE:0
STATUS:Registreerumine lõpetatud
SUMMARY:260418005\, Kurtna külamaja talgud
UID:260418005
URL:https://talgud.teemeara.ee/events/kurtna-kulamaja-talgud
END:VEVENT
END:VCALENDAR
