BEGIN:VCALENDAR
VERSION:2.0
METHOD:PUBLISH
CALSCALE:GREGORIAN
METHOD:PUBLISH
PRODID:iCalendar-Ruby
BEGIN:VEVENT
CATEGORIES:Heakord,Külatalgud,Prügikoristus,Kogukonna turvalisus,Mõttetalgu
 d
COMMENT:https://talgud.teemeara.ee/
CONTACT:Maris Pusmann\, maris080@hotmail.com\, 58143337
DESCRIPTION:
DTEND:20260502T160000
DTSTAMP:20260421T095021Z
DTSTART:20260502T093000
GEO:59.382193;26.1428435
LAST-MODIFIED:20260417T100102
LOCATION:Lääne-Virumaa\, Kadrina vald\, Kihlevere
ORGANIZER:Maris Pusmann\, maris080@hotmail.com\, 58143337
SEQUENCE:0
STATUS:Registreerumine lõpetatud
SUMMARY:260414003\, Küla Korda
UID:260414003
URL:https://talgud.teemeara.ee/events/kula-korda-22
END:VEVENT
END:VCALENDAR
