BEGIN:VCALENDAR
VERSION:2.0
METHOD:PUBLISH
CALSCALE:GREGORIAN
METHOD:PUBLISH
PRODID:iCalendar-Ruby
BEGIN:VEVENT
CATEGORIES:Heakord,Mõttetalgud,Vaimse tervise talgud
COMMENT:https://talgud.teemeara.ee/
CONTACT:Urve Mukk\, urve.mukk@gmail.com\, 56208466
DESCRIPTION:
DTEND:20260430T200000
DTSTAMP:20260422T182416Z
DTSTART:20260430T180000
GEO:58.5229882025;25.7217390036
LAST-MODIFIED:20260422T170103
LOCATION:Viljandimaa\, Põhja-Sakala vald\, Kuhjavere\, Kuhjavere
ORGANIZER:Urve Mukk\, urve.mukk@gmail.com\, 56208466
SEQUENCE:0
STATUS:Registreerumine lõpetatud
SUMMARY:260422023\, Kuhjavere küla
UID:260422023
URL:https://talgud.teemeara.ee/events/kuhjavere-kula-2
END:VEVENT
END:VCALENDAR
