BEGIN:VCALENDAR
VERSION:2.0
METHOD:PUBLISH
CALSCALE:GREGORIAN
METHOD:PUBLISH
PRODID:iCalendar-Ruby
BEGIN:VEVENT
CATEGORIES:Elurikkad õppeaiad,Heakord,Külatalgud,Looduskaitse,Mõttetalgud,V
 aimse tervise talgud
COMMENT:https://talgud.teemeara.ee/
CONTACT:Raul Isotamm\, raul@kaminapuu.com\, 5044093
DTEND:20260502T160000
DTSTAMP:20260423T211615Z
DTSTART:20260502T110000
GEO:58.828966;26.3268321
LAST-MODIFIED:20260423T140149
LOCATION:Jõgevamaa\, Jõgeva vald\, Kõola\, Kuberi puhkemaja
ORGANIZER:Raul Isotamm\, raul@kaminapuu.com\, 5044093
SEQUENCE:0
STATUS:Registreerumiseks avatud
SUMMARY:260422038\, Kuberi puhkemaja talgud
UID:260422038
URL:https://talgud.teemeara.ee/events/kuberi-puhkemaja-talgud-2
END:VEVENT
END:VCALENDAR
