BEGIN:VCALENDAR
VERSION:2.0
METHOD:PUBLISH
CALSCALE:GREGORIAN
METHOD:PUBLISH
PRODID:iCalendar-Ruby
BEGIN:VEVENT
CATEGORIES:Korteriühistud
COMMENT:https://talgud.teemeara.ee/
CONTACT:Tiina Angerjärv\, tiina.angerjarv@gmail.com\, 5206236
DESCRIPTION:
DTEND:20260502T160000
DTSTAMP:20260424T080907Z
DTSTART:20260502T103000
GEO:58.4210959667;26.7639085236
LAST-MODIFIED:20260423T002215
LOCATION:Tartumaa\, Tartu vald\, Kõrveküla alevik\, Kõrveküla\, Pärna 4
ORGANIZER:Tiina Angerjärv\, tiina.angerjarv@gmail.com\, 5206236
SEQUENCE:0
STATUS:Registreerumiseks avatud
SUMMARY:260422035\, KÜ Tiigiäärne talgud Kõrvekülas
UID:260422035
URL:https://talgud.teemeara.ee/events/ku-tiigiaarne-talgud-korvekulas-1
END:VEVENT
END:VCALENDAR
