BEGIN:VCALENDAR
VERSION:2.0
METHOD:PUBLISH
CALSCALE:GREGORIAN
METHOD:PUBLISH
PRODID:iCalendar-Ruby
BEGIN:VEVENT
CATEGORIES:Prügikoristus
COMMENT:https://talgud.teemeara.ee/
CONTACT:Eva Ivanova\, eva.ivanova@mhk.edu.ee\, 54330402
DTEND:20260429T180000
DTSTAMP:20260423T110508Z
DTSTART:20260429T140000
GEO:59.2427959;26.028227
LAST-MODIFIED:20260423T100102
LOCATION:Lääne-Virumaa\, Tapa vald
ORGANIZER:Eva Ivanova\, eva.ivanova@mhk.edu.ee\, 54330402
SEQUENCE:0
STATUS:Registreerumine lõpetatud
SUMMARY:260422012\, K.P. Vabaõhukooli talgud
UID:260422012
URL:https://talgud.teemeara.ee/events/kp-vabaohukooli-talgud
END:VEVENT
END:VCALENDAR
