BEGIN:VCALENDAR
VERSION:2.0
METHOD:PUBLISH
CALSCALE:GREGORIAN
METHOD:PUBLISH
PRODID:iCalendar-Ruby
BEGIN:VEVENT
CATEGORIES:Prügikoristus
COMMENT:https://talgud.teemeara.ee/
CONTACT:Eili Juhkam\, eili.juhkam@gmail.com\, 58178181
DESCRIPTION:
DTEND:20260503T140000
DTSTAMP:20260422T040138Z
DTSTART:20260503T110000
GEO:59.487705;25.1034369
LAST-MODIFIED:20260421T100239
LOCATION:Harjumaa\, Jõelähtme vald\, Kostiranna\, Kostiranna küla
ORGANIZER:Eili Juhkam\, eili.juhkam@gmail.com\, 58178181
SEQUENCE:0
STATUS:Registreerumiseks avatud
SUMMARY:260420018\, Kostiranna kevadkoristus
UID:260420018
URL:https://talgud.teemeara.ee/events/kostiranna-kevadkoristus
END:VEVENT
END:VCALENDAR
