BEGIN:VCALENDAR
VERSION:2.0
METHOD:PUBLISH
CALSCALE:GREGORIAN
METHOD:PUBLISH
PRODID:iCalendar-Ruby
BEGIN:VEVENT
CATEGORIES:Heakord,Muud talgud,Prügikoristus
COMMENT:https://talgud.teemeara.ee/
CONTACT:MTÜ Narva Muinsuskaitse Selts\, n.m.selts@gmail.com\, 51942509
DESCRIPTION:
DTEND:20260514T150000
DTSTAMP:20260423T031058Z
DTSTART:20260514T120000
GEO:59.3983064353;28.1778786415
LAST-MODIFIED:20260421T230646
LOCATION:Ida-Virumaa\, Narva linn\, Karjamaa ja Kalmistu tänava nurk.
ORGANIZER:MTÜ Narva Muinsuskaitse Selts\, n.m.selts@gmail.com\, 51942509
SEQUENCE:0
STATUS:Registreerumiseks avatud
SUMMARY:260420010\, Narvas korrastustalgud Narva GULAG-i vangilaagri kalmis
 tul / Толока на Нарвському цвинтарі табору ГУЛАГ
UID:260420010
URL:https://talgud.teemeara.ee/events/korrastustalgud-narva-gulag-i-vangila
 agri-kalmistul-slash-toloka-na-narvskomu-tsvintari-taboru-gulag
END:VEVENT
END:VCALENDAR
