BEGIN:VCALENDAR
VERSION:2.0
METHOD:PUBLISH
CALSCALE:GREGORIAN
METHOD:PUBLISH
PRODID:iCalendar-Ruby
BEGIN:VEVENT
CATEGORIES:Muud talgud,Prügikoristus
COMMENT:https://talgud.teemeara.ee/
CONTACT:MTÜ Narva Muinsuskaitse Selts\, n.m.selts@gmail.com\, 51942509
DESCRIPTION:
DTEND:20260523T140000
DTSTAMP:20260423T031057Z
DTSTART:20260523T120000
GEO:59.4051437874;28.1690380805
LAST-MODIFIED:20260422T171408
LOCATION:Ida-Virumaa\, Narva linn\, Jõesuu tn. ja Karjamaa tn. nurk
ORGANIZER:MTÜ Narva Muinsuskaitse Selts\, n.m.selts@gmail.com\, 51942509
SEQUENCE:0
STATUS:Registreerumiseks avatud
SUMMARY:260421008\, Narva korrastustalgud linnapeade perehaudade juures / Т
 олока у семейных захоронений бывших мэров Нарвы
UID:260421008
URL:https://talgud.teemeara.ee/events/korrastustalgud-linnapeade-perehaudad
 e-juures-slash-toloka-u-siemieinykh-zakhoronienii-byvshikh-merov-narvy
END:VEVENT
END:VCALENDAR
