BEGIN:VCALENDAR
VERSION:2.0
METHOD:PUBLISH
CALSCALE:GREGORIAN
METHOD:PUBLISH
PRODID:iCalendar-Ruby
BEGIN:VEVENT
CATEGORIES:Heakord
COMMENT:https://talgud.teemeara.ee/
CONTACT:Indrek Roosna\, indrek.roosna@mail.ee\, 53314825
DTEND:20260502T150000
DTSTAMP:20260421T043711Z
DTSTART:20260502T120000
GEO:58.9146418685;22.2102750983
LAST-MODIFIED:20260420T103225
LOCATION:Hiiumaa\, Hiiumaa vald\, Kõpu\, Kõpu küla
ORGANIZER:Indrek Roosna\, indrek.roosna@mail.ee\, 53314825
SEQUENCE:0
STATUS:Registreerumiseks avatud
SUMMARY:260419020\, Kõpu Külamäe heakorratalgud
UID:260419020
URL:https://talgud.teemeara.ee/events/kopu-kulamae-heakorratalgud
END:VEVENT
END:VCALENDAR
