BEGIN:VCALENDAR
VERSION:2.0
METHOD:PUBLISH
CALSCALE:GREGORIAN
METHOD:PUBLISH
PRODID:iCalendar-Ruby
BEGIN:VEVENT
CATEGORIES:Külatalgud
COMMENT:https://talgud.teemeara.ee/
CONTACT:Urmas Kivirand\, kooraste@gmail.com\, 5079487
DTEND:20260502T140000
DTSTAMP:20260421T134535Z
DTSTART:20260502T100000
GEO:57.9633359755;26.64643427
LAST-MODIFIED:20260421T154054
LOCATION:Põlvamaa\, Kanepi vald\, Kooraste
ORGANIZER:Urmas Kivirand\, kooraste@gmail.com\, 5079487
SEQUENCE:0
STATUS:Registreerumiseks avatud
SUMMARY:260421024\, Kooraste külatalgud 2026
UID:260421024
URL:https://talgud.teemeara.ee/events/kooraste-kulatalgud-2026
END:VEVENT
END:VCALENDAR
