BEGIN:VCALENDAR
VERSION:2.0
METHOD:PUBLISH
CALSCALE:GREGORIAN
METHOD:PUBLISH
PRODID:iCalendar-Ruby
BEGIN:VEVENT
CATEGORIES:Heakord,Kogukonna turvalisus,Külatalgud,Vaimse tervise talgud
COMMENT:https://talgud.teemeara.ee/
CONTACT:Marko Laurit\, markolaurit@gmail.com\, +3756626656
DESCRIPTION:
DTEND:20260501T180000
DTSTAMP:20260421T094007Z
DTSTART:20260501T150000
GEO:58.5805080996;24.1514615596
LAST-MODIFIED:20260418T005607
LOCATION:Pärnumaa\, Lääneranna vald\, Koonga\, Koonga\, Valla 8 Päästekoman
 do\n
ORGANIZER:Marko Laurit\, markolaurit@gmail.com\, +3756626656
SEQUENCE:0
STATUS:Registreerumiseks avatud
SUMMARY:260416029\, Koonga päästeka talgud
UID:260416029
URL:https://talgud.teemeara.ee/events/koonga-paasteka-talgud
END:VEVENT
END:VCALENDAR
