BEGIN:VCALENDAR
VERSION:2.0
METHOD:PUBLISH
CALSCALE:GREGORIAN
METHOD:PUBLISH
PRODID:iCalendar-Ruby
BEGIN:VEVENT
CATEGORIES:Heakord,Prügikoristus
COMMENT:https://talgud.teemeara.ee/
CONTACT:Mare Paarasma\, mare.paarasma@gmail.com\, 56638246
DTEND:20260506T150000
DTSTAMP:20260423T222324Z
DTSTART:20260504T100000
GEO:58.5864473;24.1473095
LAST-MODIFIED:20260423T220102
LOCATION:Pärnumaa\, Lääneranna vald\, Koonga
ORGANIZER:Mare Paarasma\, mare.paarasma@gmail.com\, 56638246
SEQUENCE:0
STATUS:Registreerumine lõpetatud
SUMMARY:260423023\, Koonga koolimaja ja lasteaia ümbruse koristus
UID:260423023
URL:https://talgud.teemeara.ee/events/koonga-koolimaja-ja-lasteaia-umbruse-
 koristus
END:VEVENT
END:VCALENDAR
