BEGIN:VCALENDAR
VERSION:2.0
METHOD:PUBLISH
CALSCALE:GREGORIAN
METHOD:PUBLISH
PRODID:iCalendar-Ruby
BEGIN:VEVENT
CATEGORIES:Heakord,Muud talgud,Prügikoristus
COMMENT:https://talgud.teemeara.ee/
CONTACT:Kaidi Ajaots\, kaidi.ajaots@gmail.com\, 53437798
DESCRIPTION:
DTEND:20260503T160000
DTSTAMP:20260421T105818Z
DTSTART:20260503T100000
GEO:58.2663386883;26.3092689445
LAST-MODIFIED:20260420T233943
LOCATION:Tartumaa\, Elva vald\, Annikoru
ORGANIZER:Kaidi Ajaots\, kaidi.ajaots@gmail.com\, 53437798
SEQUENCE:0
STATUS:Registreerumiseks avatud
SUMMARY:260419011\, Konguta Kooli hooviala talgud
UID:260419011
URL:https://talgud.teemeara.ee/events/konguta-kooli-hooviala-talgud
END:VEVENT
END:VCALENDAR
