BEGIN:VCALENDAR
VERSION:2.0
METHOD:PUBLISH
CALSCALE:GREGORIAN
METHOD:PUBLISH
PRODID:iCalendar-Ruby
BEGIN:VEVENT
CATEGORIES:Heakord,Kogukonna turvalisus,Külatalgud,Prügikoristus
COMMENT:https://talgud.teemeara.ee/
CONTACT:Kaisa Linno\, kaisa@kolgakyla.ee\, 5239239
DTEND:20260503T150000
DTSTAMP:20260420T193301Z
DTSTART:20260503T100000
GEO:59.5270721514;25.704032291
LAST-MODIFIED:20260420T180612
LOCATION:Harjumaa\, Kuusalu vald\, Kolgaküla\, Kolgaküla rahvamaja
ORGANIZER:Kaisa Linno\, kaisa@kolgakyla.ee\, 5239239
SEQUENCE:0
STATUS:Registreerumiseks avatud
SUMMARY:260419001\, Kolgaküla talgud 2026
UID:260419001
URL:https://talgud.teemeara.ee/events/kolgakula-talgud-2026
END:VEVENT
END:VCALENDAR
