BEGIN:VCALENDAR
VERSION:2.0
METHOD:PUBLISH
CALSCALE:GREGORIAN
METHOD:PUBLISH
PRODID:iCalendar-Ruby
BEGIN:VEVENT
CATEGORIES:Külatalgud
COMMENT:https://talgud.teemeara.ee/
CONTACT:Nele Jõemees\, nele.joemees@gmail.com\, 56887455
DESCRIPTION:
DTEND:20260502T180000
DTSTAMP:20260421T072132Z
DTSTART:20260502T150000
GEO:58.9544936726;24.6654368097
LAST-MODIFIED:20260420T211049
LOCATION:Raplamaa\, Rapla vald\, Koikse\, Külaplats
ORGANIZER:Nele Jõemees\, nele.joemees@gmail.com\, 56887455
SEQUENCE:0
STATUS:Registreerumiseks avatud
SUMMARY:260420033\, Koikse külaplatsi talgud
UID:260420033
URL:https://talgud.teemeara.ee/events/koikse-kulaplatsi-talgud
END:VEVENT
END:VCALENDAR
