BEGIN:VCALENDAR
VERSION:2.0
METHOD:PUBLISH
CALSCALE:GREGORIAN
METHOD:PUBLISH
PRODID:iCalendar-Ruby
BEGIN:VEVENT
CATEGORIES:Elurikkad õppeaiad,Heakord
COMMENT:https://talgud.teemeara.ee/
CONTACT:Margit Reinpõld\, margit.reinpold@gmail.com\, 55675440
DTEND:20260424T140000
DTSTAMP:20260425T115847Z
DTSTART:20260424T103000
GEO:58.8184245;25.7346912
LAST-MODIFIED:20260425T120102
LOCATION:Järvamaa\, Järva vald\, Koigi\, Mõisavahe tee 10\, Järva vald\, Jä
 rvamaa
ORGANIZER:Margit Reinpõld\, margit.reinpold@gmail.com\, 55675440
SEQUENCE:0
STATUS:Registreerumine lõpetatud
SUMMARY:260425001\, Koigi mõisakooli talgud
UID:260425001
URL:https://talgud.teemeara.ee/events/koigi-moisakooli-talgud-1
END:VEVENT
END:VCALENDAR
