BEGIN:VCALENDAR
VERSION:2.0
METHOD:PUBLISH
CALSCALE:GREGORIAN
METHOD:PUBLISH
PRODID:iCalendar-Ruby
BEGIN:VEVENT
CATEGORIES:Prügikoristus
COMMENT:https://talgud.teemeara.ee/
CONTACT:Margit Juuse\, margit.juuse@kjlv.ee\, 53954933
DESCRIPTION:
DTEND:20260502T140000
DTSTAMP:20260422T223047Z
DTSTART:20260502T100000
GEO:59.4038405987;27.2750657246
LAST-MODIFIED:20260422T173104
LOCATION:Ida-Virumaa\, Kohtla-Järve linn\, Järve linnaosa\, Olevi tn 21 maj
 a taga
ORGANIZER:Margit Juuse\, margit.juuse@kjlv.ee\, 53954933
SEQUENCE:0
STATUS:Registreerumiseks avatud
SUMMARY:260422025\, Kohtla-Järve linna\,Järve linnaosa\, Olevi tn koristami
 ne
UID:260422025
URL:https://talgud.teemeara.ee/events/kohtla-jarve-linna-jarve-linnaosa-ole
 vi-tn-koristamine
END:VEVENT
END:VCALENDAR
