BEGIN:VCALENDAR
VERSION:2.0
METHOD:PUBLISH
CALSCALE:GREGORIAN
METHOD:PUBLISH
PRODID:iCalendar-Ruby
BEGIN:VEVENT
CATEGORIES:Prügikoristus
COMMENT:https://talgud.teemeara.ee/
CONTACT:Kersti Juuse\, kersti.juuse@kjlv.ee\, 53070776
DESCRIPTION:
DTEND:20260502T140000
DTSTAMP:20260424T122448Z
DTSTART:20260502T100000
GEO:59.4041245593;27.2772758648
LAST-MODIFIED:20260422T173229
LOCATION:Ida-Virumaa\, Kohtla-Järve linn\, Järve linnaosa\, Olevi tn 21
ORGANIZER:Kersti Juuse\, kersti.juuse@kjlv.ee\, 53070776
SEQUENCE:0
STATUS:Registreerumiseks avatud
SUMMARY:260422026\, Kohtla-Järve linna\,Järve linnaosa\, Olevi tn koristami
 ne
UID:260422026
URL:https://talgud.teemeara.ee/events/kohtla-jarve-linna-jarve-linnaosa-ole
 vi-tn-koristamine-1
END:VEVENT
END:VCALENDAR
