BEGIN:VCALENDAR
VERSION:2.0
METHOD:PUBLISH
CALSCALE:GREGORIAN
METHOD:PUBLISH
PRODID:iCalendar-Ruby
BEGIN:VEVENT
CATEGORIES:Heakord,Korteriühistud,Prügikoristus
COMMENT:https://talgud.teemeara.ee/
CONTACT:Viktoria Dobrjakova\, kilakas74@hot.ee\, 53980880
DESCRIPTION:
DTEND:20260425T160000
DTSTAMP:20260420T174010Z
DTSTART:20260425T100000
GEO:59.0418744056;24.6682083414
LAST-MODIFIED:20260420T143622
LOCATION:Raplamaa\, Rapla vald\, Kodila\, Kodila\, Põllu 9
ORGANIZER:Viktoria Dobrjakova\, kilakas74@hot.ee\, 53980880
SEQUENCE:0
STATUS:Registreerumiseks avatud
SUMMARY:260419018\, KODILA 9 KORTERIÜHISTU 
UID:260419018
URL:https://talgud.teemeara.ee/events/kodila-9-korteriuhistu
END:VEVENT
END:VCALENDAR
