BEGIN:VCALENDAR
VERSION:2.0
METHOD:PUBLISH
CALSCALE:GREGORIAN
METHOD:PUBLISH
PRODID:iCalendar-Ruby
BEGIN:VEVENT
CATEGORIES:Heakord,Külatalgud,Prügikoristus
COMMENT:https://talgud.teemeara.ee/
CONTACT:Maarika Pähklemäe\, naisjuristid@gmail.com\, 5176390
DESCRIPTION:
DTEND:20260502T160000
DTSTAMP:20260421T122557Z
DTSTART:20260502T100000
GEO:58.6935014297;27.1458646515
LAST-MODIFIED:20260421T121557
LOCATION:Tartumaa\, Peipsiääre vald\, Kodavere\, Kodavere\, Pargi
ORGANIZER:Maarika Pähklemäe\, naisjuristid@gmail.com\, 5176390
SEQUENCE:0
STATUS:Registreerumiseks avatud
SUMMARY:260421006\, Kodavere kirikumõisa pargi korrastamine
UID:260421006
URL:https://talgud.teemeara.ee/events/kodavere-kirikumoisa-pargi-korrastami
 ne
END:VEVENT
END:VCALENDAR
