BEGIN:VCALENDAR
VERSION:2.0
METHOD:PUBLISH
CALSCALE:GREGORIAN
METHOD:PUBLISH
PRODID:iCalendar-Ruby
BEGIN:VEVENT
CATEGORIES:Heakord
COMMENT:https://talgud.teemeara.ee/
CONTACT:Katrin-Helena  Melder\, katrinmelder@hotmail.com\, 53435774
DESCRIPTION:
DTEND:20260502T140000
DTSTAMP:20260420T134318Z
DTSTART:20260502T090000
GEO:59.0399139345;25.8810904002
LAST-MODIFIED:20260420T103404
LOCATION:Järvamaa\, Järva vald\, Järva-Jaani alev\, Pikk 54
ORGANIZER:Katrin-Helena  Melder\, katrinmelder@hotmail.com\, 53435774
SEQUENCE:0
STATUS:Registreerumiseks avatud
SUMMARY:260420001\, Kiriku koristamine ja puude ladumine
UID:260420001
URL:https://talgud.teemeara.ee/events/kiriku-koristamine-ja-puude-ladumine-
 1
END:VEVENT
END:VCALENDAR
